BEGIN:VCALENDAR
VERSION:2.0
PRODID:-//Eventin//Event Calendar//EN
CALSCALE:GREGORIAN
METHOD:PUBLISH
BEGIN:VEVENT
UID:ff656137cbf430a5fb9a3cd1fd75479e@nasaintl.com
SUMMARY:ASIA FRUIT LOGISTICA 2026
DESCRIPTION:Join ASIA FRUIT LOGISTICA 2026 in Hong Kong and connect with th
 e global fresh produce industry at Asia’s leading trade show for fruits\,
  vegetables\, logistics\, packaging\, and supply chain innovation.\nEvent D
 escription\nASIA FRUIT LOGISTICA 2026 is the premier meeting point for the 
 international fresh produce industry in Asia. Held in Hong Kong at AsiaWorl
 d-Expo from 2–4 September 2026\, the exhibition offers a powerful platfor
 m for companies looking to expand their business\, build strategic partners
 hips\, and connect with high-level buyers from Asia and beyond.\nhe event c
 overs the full fresh produce value chain\, including fresh fruits and veget
 ables\, packaging\, logistics\, cold chain\, technology\, food safety\, and
  supply chain solutions. It is designed for growers\, exporters\, importers
 \, wholesalers\, retailers\, service providers\, and agribusiness professio
 nals who want to stay ahead in one of the world’s most dynamic produce ma
 rkets.\nASIA FRUIT LOGISTICA is recognized as one of the most important tra
 de platforms for the fresh produce sector in Asia. Official event informati
 on highlights participation from 760+ exhibitors and 14\,000+ buyers from 8
 0 countries\, making it an outstanding opportunity for brand exposure\, B2B
  networking\, market intelligence\, and regional business development.\nFor
  businesses planning to exhibit\, the show provides direct access to decisi
 on-makers\, importers\, distributors\, supermarket buyers\, and trade profe
 ssionals looking for reliable sourcing partners and innovative fresh produc
 e solutions. For visitors\, it offers the chance to discover new products\,
  understand market trends\, meet global suppliers\, and explore future-read
 y solutions shaping the produce industry.\nWhether your company is focused 
 on exports\, sourcing\, branding\, logistics\, packaging\, or market expans
 ion\, ASIA FRUIT LOGISTICA 2026 in Hong Kong is a must-attend event for unl
 ocking fresh produce opportunities across Asia.\nWhy Attend\n\nConnect with
  international buyers\, suppliers\, distributors\, and fresh produce profes
 sionals.\nDiscover the latest trends in fresh produce\, packaging\, logisti
 cs\, and supply chain innovation.\nExplore business opportunities across As
 ian and global produce markets.\nBuild valuable partnerships and generate n
 ew trade leads.\n\nWho Should Exhibit / Attend\n\nFresh fruit and vegetable
  exporters\nImporters and distributors\nGrowers and producers\nSupermarkets
  and retail buyers\nPackaging companies\nCold chain and logistics providers
 \nAgri-tech and post-harvest solution providers\nFood trade professionals a
 nd investors\n\nContact InformationFor more information regarding ASIA FRUI
 T LOGISTICA 2026 – Hong Kong\, including exhibition opportunities\, visit
 or assistance\, and business inquiries\, please contact:\nHammad Akbar – 
 hammad.akbar@nasaintl.comWajih Uddin Shahid – wajih@nasaintl.comPhone / W
 hatsApp: +92 313 2695378\nFAQ Section\nWhat is ASIA FRUIT LOGISTICA 2026?AS
 IA FRUIT LOGISTICA 2026 is a leading international trade show focused on th
 e fresh produce business in Asia\, covering the entire value chain from pro
 duction to logistics and marketing.\nWhen is ASIA FRUIT LOGISTICA 2026?The 
 event will take place from 2 to 4 September 2026.\nWhere is ASIA FRUIT LOGI
 STICA 2026 being held?It will be held at AsiaWorld-Expo\, Hong Kong.\nWho s
 hould attend ASIA FRUIT LOGISTICA 2026?The event is ideal for growers\, exp
 orters\, importers\, retailers\, wholesalers\, logistics providers\, packag
 ing companies\, and professionals involved in the fresh produce trade.
LOCATION:Hong Kong
DTSTAMP:20260421T092941Z
DTSTART:20260902T000000Z
DTEND:20260904T090000Z
END:VEVENT
END:VCALENDAR
