BEGIN:VCALENDAR
VERSION:2.0
PRODID:-//Eventin//Event Calendar//EN
CALSCALE:GREGORIAN
METHOD:PUBLISH
BEGIN:VEVENT
UID:5f6cb611066a20e9242a5c047b8252b0@nasaintl.com
SUMMARY:IFA Berlin 2026
DESCRIPTION:IFA Berlin 2026 Germany | Global Consumer Electronics Trade Sho
 w\nEvent Description\nIFA Berlin 2026 is a premier global platform for home
  and consumer technology\, bringing together leading international brands\,
  innovators\, buyers\, retailers\, distributors\, startups\, media\, and in
 dustry professionals under one roof. Scheduled for 4–8 September 2026 at 
 Messe Berlin\, the event is a major meeting point for companies looking to 
 showcase innovation\, launch products\, build partnerships\, and access glo
 bal markets.\nIFA is widely recognized as a leading exhibition for the tech
  sector\, combining B2B and B2C engagement through product showcases\, bran
 d activations\, networking\, live experiences\, retail engagement\, and tho
 ught leadership programming. The official site highlights world premieres\,
  hands-on experiences\, and live entertainment\, alongside exhibition and b
 usiness opportunities for global participants.\nThe 2026 edition also featu
 res structured content around major industry themes including AI and future
  tech\, smart and sustainable living\, retail and commerce\, digital creati
 vity\, and content-driven innovation. These themes make IFA Berlin 2026 esp
 ecially valuable for brands and professionals seeking visibility in fast-ev
 olving technology markets.\nWhether your business is focused on consumer el
 ectronics\, smart home\, retail technology\, AI\, appliances\, digital life
 style products\, or innovation partnerships\, IFA Berlin 2026 offers a high
 -impact platform to connect with key industry players and discover what’s
  next in the global tech economy.\nWhy Attend\n\nMeet global tech brands\, 
 buyers\, retailers\, distributors\, and media.\nDiscover upcoming trends in
  home electronics\, AI\, smart living\, and future commerce.\nExplore produ
 ct launches\, innovation showcases\, and strategic networking opportunities
 .\nPosition your business at one of the most recognized global consumer tec
 h events.\n\nWho Should Exhibit / Attend\n\nConsumer electronics brands\nHo
 me appliance manufacturers\nSmart home and IoT solution providers\nAI and f
 uture-tech companies\nRetailers and distributors\nE-commerce and commerce t
 echnology companies\nStartups and innovation platforms\nMedia\, creators\, 
 and tech industry professionals\n\n \nContact Information\nFor more inform
 ation regarding IFA Berlin 2026 – Germany\, including exhibition opportun
 ities\, visitor assistance\, and business inquiries\, please contact:Hammad
  Akbar – hammad.akbar@nasaintl.comWajih Uddin Shahid – wajih@nasaintl.c
 omPhone / WhatsApp: +92 313 2695378\nFAQ Section\nWhat is IFA Berlin 2026?I
 FA Berlin 2026 is a major international event for home and consumer technol
 ogy\, bringing together exhibitors\, retailers\, media\, and technology pro
 fessionals from around the world.\nWhen is IFA Berlin 2026?IFA Berlin 2026 
 will take place from 4 to 8 September 2026.\nWhere is IFA Berlin 2026 being
  held?The event will be held at Messe Berlin\, Germany.\nWho should attend 
 IFA Berlin 2026?IFA Berlin 2026 is ideal for consumer electronics brands\, 
 retailers\, distributors\, innovators\, startups\, media\, and professional
 s across the global technology sector.\n 
LOCATION:Berlin\, Germany
DTSTAMP:20260421T084156Z
DTSTART:20260904T060000Z
DTEND:20260908T150000Z
END:VEVENT
END:VCALENDAR
