BEGIN:VCALENDAR
VERSION:2.0
PRODID:-//Eventin//Event Calendar//EN
CALSCALE:GREGORIAN
METHOD:PUBLISH
BEGIN:VEVENT
UID:31ce903e7627bb146db0862f411d5923@nasaintl.com
SUMMARY:STONE+tec 2026
DESCRIPTION:STONE+tec 2026 is a dedicated international platform for the na
 tural stone and stone technology sectors\, bringing together professionals 
 involved in stone construction\, processing\, equipment\, memorial applicat
 ions\, design\, and related materials.\nThe official visitor information sa
 ys the show is structured around the sections “Building with Natural Ston
 e\,” “Equipment for Professionals\,” “Place of Remembrance\,” and
  “Design with Tiles.” It is aimed at professionals in the construction\
 , cemetery\, monument\, design\, property development\, planning\, and arch
 itecture sectors.\nWhy Attend\n\nDiscover products\, machinery\, tools\, an
 d stone technology solutions.\nMeet target groups from construction\, archi
 tecture\, design\, and processing.\nExplore applications of natural stone a
 longside related design and tile solutions.\n\nWho Should Exhibit / Attend\
 n\nNatural stone suppliers\nStone processing companies\nMachinery and equip
 ment providers\nArchitects and planners\nMonument and memorial sector profe
 ssionals\nDesigners and builders\nProperty developers\nTile and material so
 lution providers\n\nContact InformationFor more information regarding STONE
 +tec 2026 – Nuremberg\, Germany\, including exhibition opportunities\, vi
 sitor assistance\, and business inquiries\, please contact:Hammad Akbar –
  hammad.akbar@nasaintl.comWajih Uddin Shahid – wajih@nasaintl.comPhone / 
 WhatsApp: +92 313 2695378\n 
LOCATION:Nuremberg\, Germany
DTSTAMP:20260424T101812Z
DTSTART:20260617T060000Z
DTEND:20260620T150000Z
END:VEVENT
END:VCALENDAR
