BEGIN:VCALENDAR
VERSION:2.0
PRODID:-//Eventin//Event Calendar//EN
CALSCALE:GREGORIAN
METHOD:PUBLISH
BEGIN:VEVENT
UID:cf7b7bfc6ae9a5e3decbbe639baf2117@nasaintl.com
SUMMARY:Chillventa 2026
DESCRIPTION:Chillventa 2026 in Nuremberg: The Global Meeting Point for Refr
 igeration\, HVAC\, Ventilation and Heat Pump Innovation\n \nChillventa 202
 6 is one of the most important international trade fairs for professionals 
 in the refrigeration\, air conditioning\, ventilation\, and heat pump secto
 rs. Held at NürnbergMesse in Nuremberg\, Germany\, the exhibition offers a
  focused B2B platform where manufacturers\, engineers\, distributors\, inst
 allers\, consultants\, and decision-makers come together to explore innovat
 ions\, exchange expertise\, and build valuable global business relationship
 s.\nRecognized by its organizer as the world’s leading exhibition for ref
 rigeration technology\, Chillventa has become a central meeting point for t
 he international HVACR community. The event addresses the full spectrum of 
 cooling and climate-control solutions\, with official positioning around re
 frigeration\, AC\, ventilation\, and heat pump technologies.\nChillventa is
  especially valuable for businesses seeking international exposure\, seriou
 s trade connections\, and insight into the future of sustainable cooling an
 d climate systems. The official exhibition overview notes that the show has
  grown strongly since its launch in 2008\, and the 2024 edition attracted 1
 \,010 exhibitors from 49 countries and 33\,076 trade visitors in Nuremberg\
 , underscoring the scale and global relevance of the platform heading into 
 2026.\nThe exhibition is not only a marketplace for products and services b
 ut also a knowledge-driven industry meeting point. Chillventa 2026 will aga
 in be supported by content and expert exchange formats\, and the official 2
 026 press material says the event is emphasizing expert dialogue\, practica
 l insights\, international networking\, and year-round digital knowledge fo
 rmats.\nFor exhibitors\, Chillventa offers direct access to prestigious int
 ernational contacts and a highly specialized professional audience. The off
 icial exhibitor section explicitly invites companies to showcase their busi
 ness at the world’s leading fair for refrigeration technology and connect
  with relevant global industry stakeholders. New exhibitors can already reg
 ister for Chillventa 2026 through the official exhibitor process.\nFor visi
 tors\, Chillventa provides an efficient opportunity to compare technologies
 \, identify suppliers\, discover market trends\, and meet manufacturers and
  technical experts from across the HVACR ecosystem. Whether your company is
  active in commercial refrigeration\, industrial cooling\, building service
 s\, indoor climate systems\, ventilation\, or heat pump solutions\, Chillve
 nta 2026 in Nuremberg is a must-attend business event.\n\nWhy Attend Chillv
 enta 2026\nMeet a highly specialized global HVACR audienceChillventa brings
  together professionals across refrigeration\, air conditioning\, ventilati
 on\, and heat pump technology in one focused international platform.\nDisco
 ver new technologies and market-ready solutionsThe event is built around in
 novation in cooling\, indoor climate\, ventilation\, and heat pump applicat
 ions\, making it highly relevant for companies looking to stay ahead of tec
 hnical and commercial developments.\nBuild international business relations
 hipsThe official exhibitor messaging emphasizes access to prestigious inter
 national contacts\, making the fair valuable for export development\, partn
 erships\, and market expansion.\nGain industry knowledge and practical insi
 ghtsOfficial 2026 materials highlight the importance of expert dialogue\, s
 pecialist forums\, and knowledge-sharing formats around the event.\n\nWho S
 hould Exhibit or Attend\n\nRefrigeration technology manufacturers\nHVAC sys
 tem providers\nVentilation solution companies\nHeat pump technology firms\n
 Air-conditioning equipment suppliers\nInstallers and contractors\nEngineers
  and consultants\nBuilding services professionals\nDistributors and wholesa
 lers\nFacility and energy solution providers\nStart-ups in cooling\, climat
 e\, and energy technology\n\nContact Information\nFor more information rega
 rding Chillventa 2026 – Nuremberg\, Germany\, including exhibition opport
 unities\, visitor assistance\, and business inquiries\, please contact:Hamm
 ad Akbar – hammad.akbar@nasaintl.comWajih Uddin Shahid – wajih@nasaintl
 .comPhone / WhatsApp: +92 313 2695378\n 
LOCATION:Nuremberg\, Germany
DTSTAMP:20260424T101208Z
DTSTART:20261013T060000Z
DTEND:20261015T150000Z
END:VEVENT
END:VCALENDAR
